BEGIN:VCALENDAR
VERSION:2.0
METHOD:PUBLISH
CALSCALE:GREGORIAN
PRODID:-//Refresh Web Development//Helios Calendar//EN
X-FROM-URL:https://www.bayareascience.org/calendar/index.php?com=details&eID=34614
X-WR-RELCALID:BayAreaScience.org Generative AI: Race, Art, and Power 20231109T103000
X-WR-TIMEZONE:America/New_York
X-WR-CALNAME:BayAreaScience.org
BEGIN:VEVENT
URL;VALUE=URI:https://www.bayareascience.org/calendar/index.php?com=detail&eID=34614
DTSTART:20231109T103000
DTEND:20231109T120000
SUMMARY:Generative AI: Race\, Art\, and Power
DESCRIPTION:From ChatGPT\, DALL-E\, Bard\, and Midjourney\, the use of AI as a creative tool has increased dramatically both from technological breakthroughs and a flood of new users. Users and researchers have...\n______________________________\nThis Event Downloaded From a Helios Calendar Powered Site
LOCATION:South Hall - UC Berkeley Room 205\, Berkeley\, CA  94720
CATEGORIES:BayAreaScience.org Events
PRIORITY:0
TRANSP:TRANSPARENT
END:VEVENT
END:VCALENDAR