BEGIN:VCALENDAR
VERSION:2.0
METHOD:PUBLISH
CALSCALE:GREGORIAN
PRODID:-//Refresh Web Development//Helios Calendar//EN
X-FROM-URL:https://www.bayareascience.org/calendar/index.php?com=details&eID=34615
X-WR-RELCALID:BayAreaScience.org How to Survive the A.I. Apocalypse 20231013T200000
X-WR-TIMEZONE:America/New_York
X-WR-CALNAME:BayAreaScience.org
BEGIN:VEVENT
URL;VALUE=URI:https://www.bayareascience.org/calendar/index.php?com=detail&eID=34615
DTSTART:20231013T200000
DTEND:20231013T213000
SUMMARY:How to Survive the A.I. Apocalypse
DESCRIPTION:After two sold-out shows in NYC\, Shiva and Ben of KRAZAM are coming to SF\, bringing you the knowledge you need to survive in the post-AI world!Live ComedyInteractive SegmentsExclusive...\n______________________________\nThis Event Downloaded From a Helios Calendar Powered Site
LOCATION:Grand Theater - 2665 Mission St \, San Francisco\, CA  94110
CATEGORIES:BayAreaScience.org Events
PRIORITY:0
TRANSP:TRANSPARENT
END:VEVENT
END:VCALENDAR