BEGIN:VCALENDAR
VERSION:2.0
METHOD:PUBLISH
CALSCALE:GREGORIAN
PRODID:-//Refresh Web Development//Helios Calendar//EN
X-FROM-URL:https://www.bayareascience.org/calendar/index.php?com=details&eID=34616
X-WR-RELCALID:BayAreaScience.org Wonderfest: Innovation in the Search for ET 20231015T140000
X-WR-TIMEZONE:America/New_York
X-WR-CALNAME:BayAreaScience.org
BEGIN:VEVENT
URL;VALUE=URI:https://www.bayareascience.org/calendar/index.php?com=detail&eID=34616
DTSTART:20231015T140000
DTEND:20231015T153000
SUMMARY:Wonderfest: Innovation in the Search for ET
DESCRIPTION:Humans...\n______________________________\nThis Event Downloaded From a Helios Calendar Powered Site
LOCATION:Alameda Free Library - 1550 Oak St \, Alameda\, CA  94501
CATEGORIES:BayAreaScience.org Events
PRIORITY:0
TRANSP:TRANSPARENT
END:VEVENT
END:VCALENDAR