BEGIN:VCALENDAR
VERSION:2.0
METHOD:PUBLISH
CALSCALE:GREGORIAN
PRODID:-//Refresh Web Development//Helios Calendar//EN
X-FROM-URL:https://www.bayareascience.org/calendar/index.php?com=details&eID=34622
X-WR-RELCALID:BayAreaScience.org Astronomy on Tap Tucson #91: Eclipses and Hubble - Livestream 20230919T193000
X-WR-TIMEZONE:America/New_York
X-WR-CALNAME:BayAreaScience.org
BEGIN:VEVENT
URL;VALUE=URI:https://www.bayareascience.org/calendar/index.php?com=detail&eID=34622
DTSTART:20230919T193000
DTEND:20230919T210000
SUMMARY:Astronomy on Tap Tucson #91: Eclipses and Hubble - Livestream
DESCRIPTION:On tap this month\, we have Steward Observatory researchers Nick Schragal and Azalee Bostroem! Nick will talk about eclipses near and far and Azalee will teach us all about all the wonderful things...\n______________________________\nThis Event Downloaded From a Helios Calendar Powered Site
LOCATION:Astronomy on Tap -  \, \, CA  
CATEGORIES:BayAreaScience.org Events
PRIORITY:0
TRANSP:TRANSPARENT
END:VEVENT
END:VCALENDAR