BEGIN:VCALENDAR
VERSION:2.0
METHOD:PUBLISH
CALSCALE:GREGORIAN
PRODID:-//Refresh Web Development//Helios Calendar//EN
X-FROM-URL:https://www.bayareascience.org/calendar/index.php?com=details&eID=34628
X-WR-RELCALID:BayAreaScience.org An Eclipse Double Header 20230921T183000
X-WR-TIMEZONE:America/New_York
X-WR-CALNAME:BayAreaScience.org
BEGIN:VEVENT
URL;VALUE=URI:https://www.bayareascience.org/calendar/index.php?com=detail&eID=34628
DTSTART:20230921T183000
DTEND:20230921T193000
SUMMARY:An Eclipse Double Header
DESCRIPTION:Two dramatic eclipses of the Sun are coming to North America during the 2023-24 school year:Â· An annular (â€œring of fireâ€) eclipse Oct. 14\, 2023Â· A total eclipse...\n______________________________\nThis Event Downloaded From a Helios Calendar Powered Site
LOCATION:Menlo Park Main Library - 800 Alma St \, Menlo Park\, CA  94025
CATEGORIES:BayAreaScience.org Events
PRIORITY:0
TRANSP:TRANSPARENT
END:VEVENT
END:VCALENDAR