BEGIN:VCALENDAR
VERSION:2.0
METHOD:PUBLISH
CALSCALE:GREGORIAN
PRODID:-//Refresh Web Development//Helios Calendar//EN
X-FROM-URL:https://www.bayareascience.org/calendar/index.php?com=details&eID=34635
X-WR-RELCALID:BayAreaScience.org Doors Open 2023: Go Behind - the - Scenes at the Physical Archive 20231011T180000
X-WR-TIMEZONE:America/New_York
X-WR-CALNAME:BayAreaScience.org
BEGIN:VEVENT
URL;VALUE=URI:https://www.bayareascience.org/calendar/index.php?com=detail&eID=34635
DTSTART:20231011T180000
DTEND:20231011T200000
SUMMARY:Doors Open 2023: Go Behind - the - Scenes at the Physical Archive
DESCRIPTION:We are excited to offer a behind-the-scenes tour of the physical collections of books\, music\, film\, and video in Richmond\, California.With this special insider event we are opening the doors...\n______________________________\nThis Event Downloaded From a Helios Calendar Powered Site
LOCATION:Internet Archive Physical Archive - 2512 Florida Ave \, Richmond\, CA  94804
CATEGORIES:BayAreaScience.org Events
PRIORITY:0
TRANSP:TRANSPARENT
END:VEVENT
END:VCALENDAR