BEGIN:VCALENDAR
VERSION:2.0
METHOD:PUBLISH
CALSCALE:GREGORIAN
PRODID:-//Refresh Web Development//Helios Calendar//EN
X-FROM-URL:https://www.bayareascience.org/calendar/index.php?com=details&eID=34637
X-WR-RELCALID:BayAreaScience.org Nonfungible Tokens (NFTs): Transformative Potential and Risk Management 20231115T183000
X-WR-TIMEZONE:America/New_York
X-WR-CALNAME:BayAreaScience.org
BEGIN:VEVENT
URL;VALUE=URI:https://www.bayareascience.org/calendar/index.php?com=detail&eID=34637
DTSTART:20231115T183000
DTEND:20231115T203000
SUMMARY:Nonfungible Tokens (NFTs): Transformative Potential and Risk Management
DESCRIPTION:Nonfungible Tokens (NFTs): Transformative Potential and Risk Management - Emergence\, tokens\, blockchain technology\, applications\, workflows\, challenges\, strategies. - By Dr. Andrew Park\,...\n______________________________\nThis Event Downloaded From a Helios Calendar Powered Site
LOCATION:Hacker Dojo - 855 Maude Avenue \, Mountain View\, CA  94043
CATEGORIES:BayAreaScience.org Events
PRIORITY:0
TRANSP:TRANSPARENT
END:VEVENT
END:VCALENDAR