BEGIN:VCALENDAR
VERSION:2.0
METHOD:PUBLISH
CALSCALE:GREGORIAN
PRODID:-//Refresh Web Development//Helios Calendar//EN
X-FROM-URL:https://www.bayareascience.org/calendar/index.php?com=details&eID=34639
X-WR-RELCALID:BayAreaScience.org Bat Fest 2023 20231021T160000
X-WR-TIMEZONE:America/New_York
X-WR-CALNAME:BayAreaScience.org
BEGIN:VEVENT
URL;VALUE=URI:https://www.bayareascience.org/calendar/index.php?com=detail&eID=34639
DTSTART:20231021T160000
DTEND:20231021T210000
SUMMARY:Bat Fest 2023
DESCRIPTION:It's our biggest and most exciting event of the year - Bat Fest! Join Saved By Nature for an evening festival celebrating local animals of the night\, with live bats\, owls\, and other creatures....\n______________________________\nThis Event Downloaded From a Helios Calendar Powered Site
LOCATION:Rancho Canada Del Oro Open Space Preserve - 4289 Casa Loma Rd \, Morgan Hill\, CA  95037
CATEGORIES:BayAreaScience.org Events
PRIORITY:0
TRANSP:TRANSPARENT
END:VEVENT
END:VCALENDAR