BEGIN:VCALENDAR
VERSION:2.0
METHOD:PUBLISH
CALSCALE:GREGORIAN
PRODID:-//Refresh Web Development//Helios Calendar//EN
X-FROM-URL:https://www.bayareascience.org/calendar/index.php?com=details&eID=34653
X-WR-RELCALID:BayAreaScience.org  How to Avoid Obliteration: Disability as a Model for First Contact - Livestream 20230925T100000
X-WR-TIMEZONE:America/New_York
X-WR-CALNAME:BayAreaScience.org
BEGIN:VEVENT
URL;VALUE=URI:https://www.bayareascience.org/calendar/index.php?com=detail&eID=34653
DTSTART:20230925T100000
DTEND:20230925T110000
SUMMARY: How to Avoid Obliteration: Disability as a Model for First Contact - Livestream
DESCRIPTION:Because humanity is a young (and presumably vulnerable) technological species\, many of the models we use for first contact are decidedly grim. Our most prevalent examples of conflict between civilizations...\n______________________________\nThis Event Downloaded From a Helios Calendar Powered Site
LOCATION:SETI Institute -  \, \, CA  
CATEGORIES:BayAreaScience.org Events
PRIORITY:0
TRANSP:TRANSPARENT
END:VEVENT
END:VCALENDAR