BEGIN:VCALENDAR
VERSION:2.0
METHOD:PUBLISH
CALSCALE:GREGORIAN
PRODID:-//Refresh Web Development//Helios Calendar//EN
X-FROM-URL:https://www.bayareascience.org/calendar/index.php?com=details&eID=34654
X-WR-RELCALID:BayAreaScience.org CFC Birdy Hour: Burrowing Owls of the Bay Area - Livestream 20231005T180000
X-WR-TIMEZONE:America/New_York
X-WR-CALNAME:BayAreaScience.org
BEGIN:VEVENT
URL;VALUE=URI:https://www.bayareascience.org/calendar/index.php?com=detail&eID=34654
DTSTART:20231005T180000
DTEND:20231005T190000
SUMMARY:CFC Birdy Hour: Burrowing Owls of the Bay Area - Livestream
DESCRIPTION:Learn the latest about the life and times of our local Burrowing Owls from a researcher who has studied them for over 30 years. There's more to know about...\n______________________________\nThis Event Downloaded From a Helios Calendar Powered Site
LOCATION:San Francisco Bay Bird Observatory -  \, \, CA  
CATEGORIES:BayAreaScience.org Events
PRIORITY:0
TRANSP:TRANSPARENT
END:VEVENT
END:VCALENDAR