BEGIN:VCALENDAR
VERSION:2.0
METHOD:PUBLISH
CALSCALE:GREGORIAN
PRODID:-//Refresh Web Development//Helios Calendar//EN
X-FROM-URL:https://www.bayareascience.org/calendar/index.php?com=details&eID=34657
X-WR-RELCALID:BayAreaScience.org Climate change in the coastal zone: social and ecological interactions at the land-ocean interface - Livestream 20231004T110000
X-WR-TIMEZONE:America/New_York
X-WR-CALNAME:BayAreaScience.org
BEGIN:VEVENT
URL;VALUE=URI:https://www.bayareascience.org/calendar/index.php?com=detail&eID=34657
DTSTART:20231004T110000
DTEND:20231004T110000
SUMMARY:Climate change in the coastal zone: social and ecological interactions at the land-ocean interface - Livestream
DESCRIPTION:Speaker: Rachel Carson\, Bodega Marine LaboratoryRegister at weblink to receive connection information\n______________________________\nThis Event Downloaded From a Helios Calendar Powered Site
LOCATION:Coastal and Marine Sciences Institute -  \, \, CA  
CATEGORIES:BayAreaScience.org Events
PRIORITY:0
TRANSP:TRANSPARENT
END:VEVENT
END:VCALENDAR