BEGIN:VCALENDAR
VERSION:2.0
METHOD:PUBLISH
CALSCALE:GREGORIAN
PRODID:-//Refresh Web Development//Helios Calendar//EN
X-FROM-URL:https://www.bayareascience.org/calendar/index.php?com=details&eID=34664
X-WR-RELCALID:BayAreaScience.org Public Astronomy Viewing Nights 20231103T193000
X-WR-TIMEZONE:America/New_York
X-WR-CALNAME:BayAreaScience.org
BEGIN:VEVENT
URL;VALUE=URI:https://www.bayareascience.org/calendar/index.php?com=detail&eID=34664
DTSTART:20231103T193000
DTEND:20231103T210000
SUMMARY:Public Astronomy Viewing Nights
DESCRIPTION:Come for public viewing of the night sky at Sonoma State University's Observatory.Check the weblink for weather conditions before going as the event is weather dependent.\n______________________________\nThis Event Downloaded From a Helios Calendar Powered Site
LOCATION:Sonoma State University Public Astronomy - Observatory 1801 East Cotati Ave\, Rohnert Park\, CA  94928
CATEGORIES:BayAreaScience.org Events
PRIORITY:0
TRANSP:TRANSPARENT
END:VEVENT
END:VCALENDAR