BEGIN:VCALENDAR
VERSION:2.0
METHOD:PUBLISH
CALSCALE:GREGORIAN
PRODID:-//Refresh Web Development//Helios Calendar//EN
X-FROM-URL:https://www.bayareascience.org/calendar/index.php?com=details&eID=34669
X-WR-RELCALID:BayAreaScience.org Learn about the Upcoming Solar Eclipses (with Andrew Fraknoi) - Livestream 20231010T180000
X-WR-TIMEZONE:America/New_York
X-WR-CALNAME:BayAreaScience.org
BEGIN:VEVENT
URL;VALUE=URI:https://www.bayareascience.org/calendar/index.php?com=detail&eID=34669
DTSTART:20231010T180000
DTEND:20231010T190000
SUMMARY:Learn about the Upcoming Solar Eclipses (with Andrew Fraknoi) - Livestream
DESCRIPTION:Two dramatic eclipses of the Sun are coming to North America during the 2023-24 school year - anÂ annularÂ (â€œring of fireâ€) eclipse...\n______________________________\nThis Event Downloaded From a Helios Calendar Powered Site
LOCATION:Oakland Public Library -  \, \, CA  
CATEGORIES:BayAreaScience.org Events
PRIORITY:0
TRANSP:TRANSPARENT
END:VEVENT
END:VCALENDAR