BEGIN:VCALENDAR
VERSION:2.0
METHOD:PUBLISH
CALSCALE:GREGORIAN
PRODID:-//Refresh Web Development//Helios Calendar//EN
X-FROM-URL:https://www.bayareascience.org/calendar/index.php?com=details&eID=34673
X-WR-RELCALID:BayAreaScience.org Special Screening of 'Collision' 20231004T193000
X-WR-TIMEZONE:America/New_York
X-WR-CALNAME:BayAreaScience.org
BEGIN:VEVENT
URL;VALUE=URI:https://www.bayareascience.org/calendar/index.php?com=detail&eID=34673
DTSTART:20231004T193000
DTEND:20231004T210000
SUMMARY:Special Screening of 'Collision'
DESCRIPTION:A worldwide increase in shipping traffic is threatening our oceans\, its inhabitants and the planet.Â CollisionÂ is a powerful feature documentary which highlights the severely under-reported...\n______________________________\nThis Event Downloaded From a Helios Calendar Powered Site
LOCATION:Smith Rafael Film Center - 1118 Fourth Street \, San Rafael\, CA USA 94901
CATEGORIES:BayAreaScience.org Events
PRIORITY:0
TRANSP:TRANSPARENT
END:VEVENT
END:VCALENDAR