BEGIN:VCALENDAR
VERSION:2.0
METHOD:PUBLISH
CALSCALE:GREGORIAN
PRODID:-//Refresh Web Development//Helios Calendar//EN
X-FROM-URL:https://www.bayareascience.org/calendar/index.php?com=details&eID=34674
X-WR-RELCALID:BayAreaScience.org The Smell of Money: Film Screening and Discussion 20231112T143000
X-WR-TIMEZONE:America/New_York
X-WR-CALNAME:BayAreaScience.org
BEGIN:VEVENT
URL;VALUE=URI:https://www.bayareascience.org/calendar/index.php?com=detail&eID=34674
DTSTART:20231112T143000
DTEND:20231112T170000
SUMMARY:The Smell of Money: Film Screening and Discussion
DESCRIPTION:"Who pays the price for what we want?" A century after her grandfather claimed his freedom from slavery and the family land\, Elsie Herring and her North Carolina community fight the world's largest...\n______________________________\nThis Event Downloaded From a Helios Calendar Powered Site
LOCATION:Palo Alto Art Center - 1313 Newell Rd \, Palo Alto\, CA  94303
CATEGORIES:BayAreaScience.org Events
PRIORITY:0
TRANSP:TRANSPARENT
END:VEVENT
END:VCALENDAR