BEGIN:VCALENDAR
VERSION:2.0
METHOD:PUBLISH
CALSCALE:GREGORIAN
PRODID:-//Refresh Web Development//Helios Calendar//EN
X-FROM-URL:https://www.bayareascience.org/calendar/index.php?com=details&eID=34675
X-WR-RELCALID:BayAreaScience.org Birding Under the Influence - Livestream 20231018T190000
X-WR-TIMEZONE:America/New_York
X-WR-CALNAME:BayAreaScience.org
BEGIN:VEVENT
URL;VALUE=URI:https://www.bayareascience.org/calendar/index.php?com=detail&eID=34675
DTSTART:20231018T190000
DTEND:20231018T203000
SUMMARY:Birding Under the Influence - Livestream
DESCRIPTION:A North American Big Yearâ€•a continent-spanning adventure in which a birder attempts to see as many species as possible in twelve monthsâ€•is a massive...\n______________________________\nThis Event Downloaded From a Helios Calendar Powered Site
LOCATION:Santa Clara Valley Audubon Society -  \, \, CA  
CATEGORIES:BayAreaScience.org Events
PRIORITY:0
TRANSP:TRANSPARENT
END:VEVENT
END:VCALENDAR