BEGIN:VCALENDAR
VERSION:2.0
METHOD:PUBLISH
CALSCALE:GREGORIAN
PRODID:-//Refresh Web Development//Helios Calendar//EN
X-FROM-URL:https://www.bayareascience.org/calendar/index.php?com=details&eID=34676
X-WR-RELCALID:BayAreaScience.org Zoom Lenses for Bird Photography 20231004T193000
X-WR-TIMEZONE:America/New_York
X-WR-CALNAME:BayAreaScience.org
BEGIN:VEVENT
URL;VALUE=URI:https://www.bayareascience.org/calendar/index.php?com=detail&eID=34676
DTSTART:20231004T193000
DTEND:20231004T210000
SUMMARY:Zoom Lenses for Bird Photography
DESCRIPTION:This presentation will discuss the benefits and drawbacks of zoom lenses for bird photography. Zoom lenses offer many benefits...\n______________________________\nThis Event Downloaded From a Helios Calendar Powered Site
LOCATION:Santa Clara Valley Bird Alliance (SCVBA) - 22221 McClellan Rd Building D\, Cupertino\, CA  95014
CATEGORIES:BayAreaScience.org Events
PRIORITY:0
TRANSP:TRANSPARENT
END:VEVENT
END:VCALENDAR