BEGIN:VCALENDAR
VERSION:2.0
METHOD:PUBLISH
CALSCALE:GREGORIAN
PRODID:-//Refresh Web Development//Helios Calendar//EN
X-FROM-URL:https://www.bayareascience.org/calendar/index.php?com=details&eID=34678
X-WR-RELCALID:BayAreaScience.org Partial Solar Eclipse at Stanford/KIPAC 20231014T083000
X-WR-TIMEZONE:America/New_York
X-WR-CALNAME:BayAreaScience.org
BEGIN:VEVENT
URL;VALUE=URI:https://www.bayareascience.org/calendar/index.php?com=detail&eID=34678
DTSTART:20231014T083000
DTEND:20231014T113000
SUMMARY:Partial Solar Eclipse at Stanford/KIPAC
DESCRIPTION:Please join us to watch the solar eclipse together! While the Bay Area is not on the path of annularity\, we will still have around 80% coverage with a partial eclipse and would love to invite you...\n______________________________\nThis Event Downloaded From a Helios Calendar Powered Site
LOCATION:IM South Fields - 1600 El Camino Real \, Palo Alto\, CA  94306
CATEGORIES:BayAreaScience.org Events
PRIORITY:0
TRANSP:TRANSPARENT
END:VEVENT
END:VCALENDAR