BEGIN:VCALENDAR
VERSION:2.0
METHOD:PUBLISH
CALSCALE:GREGORIAN
PRODID:-//Refresh Web Development//Helios Calendar//EN
X-FROM-URL:https://www.bayareascience.org/calendar/index.php?com=details&eID=34683
X-WR-RELCALID:BayAreaScience.org N ~ 1: Alone In The Milky Way 20231030T160000
X-WR-TIMEZONE:America/New_York
X-WR-CALNAME:BayAreaScience.org
BEGIN:VEVENT
URL;VALUE=URI:https://www.bayareascience.org/calendar/index.php?com=detail&eID=34683
DTSTART:20231030T160000
DTEND:20231030T170000
SUMMARY:N ~ 1: Alone In The Milky Way
DESCRIPTION:Planetary scientist Dr. Pascal Lee will reviews our present knowledge about each term of the Drake Equation\, which is at the heart of the Search for Extraterrestrial Intelligence (SETI). He will...\n______________________________\nThis Event Downloaded From a Helios Calendar Powered Site
LOCATION:Sonoma State University - What Physicists Do - 1801 E. Cotati Ave. Darwin Hall\, Room 103\, Rohnert Park\, CA USA 94928
CATEGORIES:BayAreaScience.org Events
PRIORITY:0
TRANSP:TRANSPARENT
END:VEVENT
END:VCALENDAR