BEGIN:VCALENDAR
VERSION:2.0
METHOD:PUBLISH
CALSCALE:GREGORIAN
PRODID:-//Refresh Web Development//Helios Calendar//EN
X-FROM-URL:https://www.bayareascience.org/calendar/index.php?com=details&eID=34688
X-WR-RELCALID:BayAreaScience.org How to Build Personalization into LLM Recommendations 20231023T190000
X-WR-TIMEZONE:America/New_York
X-WR-CALNAME:BayAreaScience.org
BEGIN:VEVENT
URL;VALUE=URI:https://www.bayareascience.org/calendar/index.php?com=detail&eID=34688
DTSTART:20231023T190000
DTEND:20231023T203000
SUMMARY:How to Build Personalization into LLM Recommendations
DESCRIPTION:We enable Large Language Models (LLM) with personalization capability. This is not specific to the LLM (Open AI's ChatGPT\, Athropic's Claude\, Meta's Llama 2\, Googles\,...)Today\,...\n______________________________\nThis Event Downloaded From a Helios Calendar Powered Site
LOCATION:Hacker Dojo - 855 Maude Avenue \, Mountain View\, CA  94043
CATEGORIES:BayAreaScience.org Events
PRIORITY:0
TRANSP:TRANSPARENT
END:VEVENT
END:VCALENDAR