BEGIN:VCALENDAR
VERSION:2.0
METHOD:PUBLISH
CALSCALE:GREGORIAN
PRODID:-//Refresh Web Development//Helios Calendar//EN
X-FROM-URL:https://www.bayareascience.org/calendar/index.php?com=details&eID=34696
X-WR-RELCALID:BayAreaScience.org Radical Founders AI: Geoffrey Hinton in Conversation with Fei-Fei Li 20231004T160000
X-WR-TIMEZONE:America/New_York
X-WR-CALNAME:BayAreaScience.org
BEGIN:VEVENT
URL;VALUE=URI:https://www.bayareascience.org/calendar/index.php?com=detail&eID=34696
DTSTART:20231004T160000
DTEND:20231004T180000
SUMMARY:Radical Founders AI: Geoffrey Hinton in Conversation with Fei-Fei Li
DESCRIPTION:In this Radical AI Founders Masterclass\, Geoffrey Hinton and Fei-Fei Li will share their experiences building tech-first startups and scaleups\, offering up their guidance\, advice\, and personal...\n______________________________\nThis Event Downloaded From a Helios Calendar Powered Site
LOCATION:Gates Computer Science Building - Stanford University Room 119\, Stanford\, CA  94305
CATEGORIES:BayAreaScience.org Events
PRIORITY:0
TRANSP:TRANSPARENT
END:VEVENT
END:VCALENDAR