BEGIN:VCALENDAR
VERSION:2.0
METHOD:PUBLISH
CALSCALE:GREGORIAN
PRODID:-//Refresh Web Development//Helios Calendar//EN
X-FROM-URL:https://www.bayareascience.org/calendar/index.php?com=details&eID=34698
X-WR-RELCALID:BayAreaScience.org Life as a Space Weather Analyst - Livestream 20231026T180000
X-WR-TIMEZONE:America/New_York
X-WR-CALNAME:BayAreaScience.org
BEGIN:VEVENT
URL;VALUE=URI:https://www.bayareascience.org/calendar/index.php?com=detail&eID=34698
DTSTART:20231026T180000
DTEND:20231026T210000
SUMMARY:Life as a Space Weather Analyst - Livestream
DESCRIPTION:Ever wondered what Space Weather is? Curious to know what itâ€™s like to analyze Space Weather real-time? Carina Alden will take us through a day in the life of what itâ€™s like being...\n______________________________\nThis Event Downloaded From a Helios Calendar Powered Site
LOCATION:Astronomical Society of the Pacific -  \, \, CA  
CATEGORIES:BayAreaScience.org Events
PRIORITY:0
TRANSP:TRANSPARENT
END:VEVENT
END:VCALENDAR