BEGIN:VCALENDAR
VERSION:2.0
METHOD:PUBLISH
CALSCALE:GREGORIAN
PRODID:-//Refresh Web Development//Helios Calendar//EN
X-FROM-URL:https://www.bayareascience.org/calendar/index.php?com=details&eID=34699
X-WR-RELCALID:BayAreaScience.org World Space Week Association Podcast - Seth Shostak, Senior Astronomer at SETI 20231004
X-WR-TIMEZONE:America/New_York
X-WR-CALNAME:BayAreaScience.org
BEGIN:VEVENT
URL;VALUE=URI:https://www.bayareascience.org/calendar/index.php?com=detail&eID=34699
DTSTART;VALUE=DATE:20231004
DTEND;VALUE=DATE:20231005
SUMMARY:World Space Week Association Podcast - Seth Shostak\, Senior Astronomer at SETI
DESCRIPTION:Hear...\n______________________________\nThis Event Downloaded From a Helios Calendar Powered Site
LOCATION:World Space Week -  \, \, CA  
CATEGORIES:BayAreaScience.org Events
PRIORITY:0
TRANSP:TRANSPARENT
END:VEVENT
END:VCALENDAR