BEGIN:VCALENDAR
VERSION:2.0
METHOD:PUBLISH
CALSCALE:GREGORIAN
PRODID:-//Refresh Web Development//Helios Calendar//EN
X-FROM-URL:https://www.bayareascience.org/calendar/index.php?com=details&eID=34709
X-WR-RELCALID:BayAreaScience.org The past has left its traces on the world, and we only have to know how to read them 20231009T161500
X-WR-TIMEZONE:America/New_York
X-WR-CALNAME:BayAreaScience.org
BEGIN:VEVENT
URL;VALUE=URI:https://www.bayareascience.org/calendar/index.php?com=detail&eID=34709
DTSTART:20231009T161500
DTEND:20231009T171500
SUMMARY:The past has left its traces on the world\, and we only have to know how to read them
DESCRIPTION:Animals arose over five hundred million years ago\, and by the end of the Cambrian had diversified into todayâ€™s phylum-level forms. This early history is obscured by the fact that the first...\n______________________________\nThis Event Downloaded From a Helios Calendar Powered Site
LOCATION:Physics North - UC Berkeley Room 1\, Berkeley\, CA  94720
CATEGORIES:BayAreaScience.org Events
PRIORITY:0
TRANSP:TRANSPARENT
END:VEVENT
END:VCALENDAR