BEGIN:VCALENDAR
VERSION:2.0
METHOD:PUBLISH
CALSCALE:GREGORIAN
PRODID:-//Refresh Web Development//Helios Calendar//EN
X-FROM-URL:https://www.bayareascience.org/calendar/index.php?com=details&eID=34725
X-WR-RELCALID:BayAreaScience.org Quantum Limited Thermal and Thermoelectric Transport in Graphene 20231009T143000
X-WR-TIMEZONE:America/New_York
X-WR-CALNAME:BayAreaScience.org
BEGIN:VEVENT
URL;VALUE=URI:https://www.bayareascience.org/calendar/index.php?com=detail&eID=34725
DTSTART:20231009T143000
DTEND:20231009T153000
SUMMARY:Quantum Limited Thermal and Thermoelectric Transport in Graphene
DESCRIPTION:In low-dimensional systems\, a growing number of many-body quantum phenomena have emerged from the combination of reduced dimensionality\, strong interactions\, and topology. Thermal and thermoelectric...\n______________________________\nThis Event Downloaded From a Helios Calendar Powered Site
LOCATION:Stanley Hall - UC Berkeley Room 106\, Berkeley\, CA  94720
CATEGORIES:BayAreaScience.org Events
PRIORITY:0
TRANSP:TRANSPARENT
END:VEVENT
END:VCALENDAR