BEGIN:VCALENDAR
VERSION:2.0
METHOD:PUBLISH
CALSCALE:GREGORIAN
PRODID:-//Refresh Web Development//Helios Calendar//EN
X-FROM-URL:https://www.bayareascience.org/calendar/index.php?com=details&eID=34727
X-WR-RELCALID:BayAreaScience.org Direct Observation of Anyonic Braiding Statistics 20231023T143000
X-WR-TIMEZONE:America/New_York
X-WR-CALNAME:BayAreaScience.org
BEGIN:VEVENT
URL;VALUE=URI:https://www.bayareascience.org/calendar/index.php?com=detail&eID=34727
DTSTART:20231023T143000
DTEND:20231023T153000
SUMMARY:Direct Observation of Anyonic Braiding Statistics
DESCRIPTION:A basic tenet of quantum theory is that all elementary particles are either bosons or fermions. Ensembles of bosons or fermions behave differently due to differences in...\n______________________________\nThis Event Downloaded From a Helios Calendar Powered Site
LOCATION:Stanley Hall - UC Berkeley Room 106\, Berkeley\, CA  94720
CATEGORIES:BayAreaScience.org Events
PRIORITY:0
TRANSP:TRANSPARENT
END:VEVENT
END:VCALENDAR