BEGIN:VCALENDAR
VERSION:2.0
METHOD:PUBLISH
CALSCALE:GREGORIAN
PRODID:-//Refresh Web Development//Helios Calendar//EN
X-FROM-URL:https://www.bayareascience.org/calendar/index.php?com=details&eID=34733
X-WR-RELCALID:BayAreaScience.org A vector spin glass made of atoms and photons 20231023T161500
X-WR-TIMEZONE:America/New_York
X-WR-CALNAME:BayAreaScience.org
BEGIN:VEVENT
URL;VALUE=URI:https://www.bayareascience.org/calendar/index.php?com=detail&eID=34733
DTSTART:20231023T161500
DTEND:20231023T171500
SUMMARY:A vector spin glass made of atoms and photons
DESCRIPTION:Spin glasses are canonical examples of complex matter. Although much about their structure remains uncertain\, they inform the description of a wide array of complex phenomena\, ranging from magnetic...\n______________________________\nThis Event Downloaded From a Helios Calendar Powered Site
LOCATION:Physics North - UC Berkeley Room 1\, Berkeley\, CA  94720
CATEGORIES:BayAreaScience.org Events
PRIORITY:0
TRANSP:TRANSPARENT
END:VEVENT
END:VCALENDAR