BEGIN:VCALENDAR
VERSION:2.0
METHOD:PUBLISH
CALSCALE:GREGORIAN
PRODID:-//Refresh Web Development//Helios Calendar//EN
X-FROM-URL:https://www.bayareascience.org/calendar/index.php?com=details&eID=34734
X-WR-RELCALID:BayAreaScience.org Testing relativity on a tabletop with a miniature network of optical lattice atomic clocks 20231106T161500
X-WR-TIMEZONE:America/New_York
X-WR-CALNAME:BayAreaScience.org
BEGIN:VEVENT
URL;VALUE=URI:https://www.bayareascience.org/calendar/index.php?com=detail&eID=34734
DTSTART:20231106T161500
DTEND:20231106T171500
SUMMARY:Testing relativity on a tabletop with a miniature network of optical lattice atomic clocks
DESCRIPTION:The remarkable precision of optical atomic clocks offers sensitivity to new and exotic physics through tests of relativity\, searches for dark matter\, gravitational wave detection\, and probes for...\n______________________________\nThis Event Downloaded From a Helios Calendar Powered Site
LOCATION:Physics North - UC Berkeley Room 1\, Berkeley\, CA  94720
CATEGORIES:BayAreaScience.org Events
PRIORITY:0
TRANSP:TRANSPARENT
END:VEVENT
END:VCALENDAR