BEGIN:VCALENDAR
VERSION:2.0
METHOD:PUBLISH
CALSCALE:GREGORIAN
PRODID:-//Refresh Web Development//Helios Calendar//EN
X-FROM-URL:https://www.bayareascience.org/calendar/index.php?com=details&eID=34738
X-WR-RELCALID:BayAreaScience.org Fire Ecology Hike 20231014T100000
X-WR-TIMEZONE:America/New_York
X-WR-CALNAME:BayAreaScience.org
BEGIN:VEVENT
URL;VALUE=URI:https://www.bayareascience.org/calendar/index.php?com=detail&eID=34738
DTSTART:20231014T100000
DTEND:20231014T150000
SUMMARY:Fire Ecology Hike
DESCRIPTION:Join us to learn about the importance of getting â€˜good fireâ€™ back onto coastal landscapes and our ongoing work to steward the preserve using prescribed burning. A guided 4-mile hike...\n______________________________\nThis Event Downloaded From a Helios Calendar Powered Site
LOCATION:Martin Griffin Preserve - 4900 Shoreline Highway 1 \, Stinson Beach\, CA  94970
CATEGORIES:BayAreaScience.org Events
PRIORITY:0
TRANSP:TRANSPARENT
END:VEVENT
END:VCALENDAR