BEGIN:VCALENDAR
VERSION:2.0
METHOD:PUBLISH
CALSCALE:GREGORIAN
PRODID:-//Refresh Web Development//Helios Calendar//EN
X-FROM-URL:https://www.bayareascience.org/calendar/index.php?com=details&eID=34739
X-WR-RELCALID:BayAreaScience.org  Friends and family birding day at Bouverie Preserve 20231014T100000
X-WR-TIMEZONE:America/New_York
X-WR-CALNAME:BayAreaScience.org
BEGIN:VEVENT
URL;VALUE=URI:https://www.bayareascience.org/calendar/index.php?com=detail&eID=34739
DTSTART:20231014T100000
DTEND:20231014T130000
SUMMARY: Friends and family birding day at Bouverie Preserve
DESCRIPTION:Join us for a fun-filled day of birding at Bouverie Preserve! Whether youâ€™re an experienced birder or just starting out\, this event is perfect for nature enthusiasts of all ages. Spend the...\n______________________________\nThis Event Downloaded From a Helios Calendar Powered Site
LOCATION:Bouverie Preserve - 13935 California 12 \, Glen Ellen\, CA  95442
CATEGORIES:BayAreaScience.org Events
PRIORITY:0
TRANSP:TRANSPARENT
END:VEVENT
END:VCALENDAR