BEGIN:VCALENDAR
VERSION:2.0
METHOD:PUBLISH
CALSCALE:GREGORIAN
PRODID:-//Refresh Web Development//Helios Calendar//EN
X-FROM-URL:https://www.bayareascience.org/calendar/index.php?com=details&eID=34740
X-WR-RELCALID:BayAreaScience.org Global Insights to Anticipate and Address Tomorrowâ€™s Cybersecurity Challenges 20231027T151000
X-WR-TIMEZONE:America/New_York
X-WR-CALNAME:BayAreaScience.org
BEGIN:VEVENT
URL;VALUE=URI:https://www.bayareascience.org/calendar/index.php?com=detail&eID=34740
DTSTART:20231027T151000
DTEND:20231027T170000
SUMMARY:Global Insights to Anticipate and Address Tomorrowâ€™s Cybersecurity Challenges
DESCRIPTION:From ubiquitous software-controlled vehicles\, innovations in gaming\, virtual reality\, and hyper-scale cloud adoption\, to supply chain frictions\, a proliferation of inexpensive tools available to...\n______________________________\nThis Event Downloaded From a Helios Calendar Powered Site
LOCATION:South Hall - UC Berkeley Room 107\, Berkeley\, CA  94720
CATEGORIES:BayAreaScience.org Events
PRIORITY:0
TRANSP:TRANSPARENT
END:VEVENT
END:VCALENDAR