BEGIN:VCALENDAR
VERSION:2.0
METHOD:PUBLISH
CALSCALE:GREGORIAN
PRODID:-//Refresh Web Development//Helios Calendar//EN
X-FROM-URL:https://www.bayareascience.org/calendar/index.php?com=details&eID=34743
X-WR-RELCALID:BayAreaScience.org PubScience: Lichens Like'n Leaves: Foliicolous lichen diversity from Borneo to California 20231005T183000
X-WR-TIMEZONE:America/New_York
X-WR-CALNAME:BayAreaScience.org
BEGIN:VEVENT
URL;VALUE=URI:https://www.bayareascience.org/calendar/index.php?com=detail&eID=34743
DTSTART:20231005T183000
DTEND:20231005T193000
SUMMARY:PubScience: Lichens Like'n Leaves: Foliicolous lichen diversity from Borneo to California
DESCRIPTION:Speaker:...\n______________________________\nThis Event Downloaded From a Helios Calendar Powered Site
LOCATION:Ocean View Brew Works - 627 San Pablo Ave. \, Albany\, CA  94706
CATEGORIES:BayAreaScience.org Events
PRIORITY:0
TRANSP:TRANSPARENT
END:VEVENT
END:VCALENDAR