BEGIN:VCALENDAR
VERSION:2.0
METHOD:PUBLISH
CALSCALE:GREGORIAN
PRODID:-//Refresh Web Development//Helios Calendar//EN
X-FROM-URL:https://www.bayareascience.org/calendar/index.php?com=details&eID=34746
X-WR-RELCALID:BayAreaScience.org Zombies? Or the Workings of a Federal Science Agency? The National Wildlife Health Center - Livestream 20231019T180000
X-WR-TIMEZONE:America/New_York
X-WR-CALNAME:BayAreaScience.org
BEGIN:VEVENT
URL;VALUE=URI:https://www.bayareascience.org/calendar/index.php?com=detail&eID=34746
DTSTART:20231019T180000
DTEND:20231019T193000
SUMMARY:Zombies? Or the Workings of a Federal Science Agency? The National Wildlife Health Center - Livestream
DESCRIPTION:By...\n______________________________\nThis Event Downloaded From a Helios Calendar Powered Site
LOCATION:US Geological Survey Public Lecture Series -  \, \, CA  
CATEGORIES:BayAreaScience.org Events
PRIORITY:0
TRANSP:TRANSPARENT
END:VEVENT
END:VCALENDAR