BEGIN:VCALENDAR
VERSION:2.0
METHOD:PUBLISH
CALSCALE:GREGORIAN
PRODID:-//Refresh Web Development//Helios Calendar//EN
X-FROM-URL:https://www.bayareascience.org/calendar/index.php?com=details&eID=34755
X-WR-RELCALID:BayAreaScience.org 'Hydrological intelligence' in streamflow forecasting: finding a happy medium between data-driven and physically based approaches 20231101T153000
X-WR-TIMEZONE:America/New_York
X-WR-CALNAME:BayAreaScience.org
BEGIN:VEVENT
URL;VALUE=URI:https://www.bayareascience.org/calendar/index.php?com=detail&eID=34755
DTSTART:20231101T153000
DTEND:20231101T163000
SUMMARY:'Hydrological intelligence' in streamflow forecasting: finding a happy medium between data-driven and physically based approaches
DESCRIPTION:Speaker: Laurel Larsen\, UC Berkeley\n______________________________\nThis Event Downloaded From a Helios Calendar Powered Site
LOCATION:Estuary & Ocean Science Center - 3150 Paradise Drive Bay Conference Center\, South Bay Room\, Tiburon\, CA  94920
CATEGORIES:BayAreaScience.org Events
PRIORITY:0
TRANSP:TRANSPARENT
END:VEVENT
END:VCALENDAR