BEGIN:VCALENDAR
VERSION:2.0
METHOD:PUBLISH
CALSCALE:GREGORIAN
PRODID:-//Refresh Web Development//Helios Calendar//EN
X-FROM-URL:https://www.bayareascience.org/calendar/index.php?com=details&eID=34763
X-WR-RELCALID:BayAreaScience.org Family Nature Day at Huddart Park 20231014T100000
X-WR-TIMEZONE:America/New_York
X-WR-CALNAME:BayAreaScience.org
BEGIN:VEVENT
URL;VALUE=URI:https://www.bayareascience.org/calendar/index.php?com=detail&eID=34763
DTSTART:20231014T100000
DTEND:20231014T130000
SUMMARY:Family Nature Day at Huddart Park
DESCRIPTION:Join Peninsula Open Space Trust (POST)\, Friends of Huddart & Wunderlich...\n______________________________\nThis Event Downloaded From a Helios Calendar Powered Site
LOCATION:Huddart Park - 1100 Kings Mountain Rd \, Woodside\, CA  94062
CATEGORIES:BayAreaScience.org Events
PRIORITY:0
TRANSP:TRANSPARENT
END:VEVENT
END:VCALENDAR