BEGIN:VCALENDAR
VERSION:2.0
METHOD:PUBLISH
CALSCALE:GREGORIAN
PRODID:-//Refresh Web Development//Helios Calendar//EN
X-FROM-URL:https://www.bayareascience.org/calendar/index.php?com=details&eID=34771
X-WR-RELCALID:BayAreaScience.org Exploring the Sky Through Astrophotography: From Cities to the Darkest Skies 20231028T193000
X-WR-TIMEZONE:America/New_York
X-WR-CALNAME:BayAreaScience.org
BEGIN:VEVENT
URL;VALUE=URI:https://www.bayareascience.org/calendar/index.php?com=detail&eID=34771
DTSTART:20231028T193000
DTEND:20231028T210000
SUMMARY:Exploring the Sky Through Astrophotography: From Cities to the Darkest Skies
DESCRIPTION:This presentation will take you on a journey through the cosmos\, showcasing astro-images captured with everything from a DSLR on a tripod to a 500mm telescopes. Glenn will share his work from local...\n______________________________\nThis Event Downloaded From a Helios Calendar Powered Site
LOCATION:San Jose Astronomical Association - Houge Park 3972 Twilight Drive\, San Jose\, CA  95124
CATEGORIES:BayAreaScience.org Events
PRIORITY:0
TRANSP:TRANSPARENT
END:VEVENT
END:VCALENDAR