BEGIN:VCALENDAR
VERSION:2.0
METHOD:PUBLISH
CALSCALE:GREGORIAN
PRODID:-//Refresh Web Development//Helios Calendar//EN
X-FROM-URL:https://www.bayareascience.org/calendar/index.php?com=details&eID=34775
X-WR-RELCALID:BayAreaScience.org Science Uncorked: Monitoring, Restoring, and Engaging with Different Types of Communities 20231018T180000
X-WR-TIMEZONE:America/New_York
X-WR-CALNAME:BayAreaScience.org
BEGIN:VEVENT
URL;VALUE=URI:https://www.bayareascience.org/calendar/index.php?com=detail&eID=34775
DTSTART:20231018T180000
DTEND:20231018T190000
SUMMARY:Science Uncorked: Monitoring\, Restoring\, and Engaging with Different Types of Communities
DESCRIPTION:...\n______________________________\nThis Event Downloaded From a Helios Calendar Powered Site
LOCATION:Gourmet au Bay - 1412 Bay Flat Rd \, Bodega Bay\, CA  94923
CATEGORIES:BayAreaScience.org Events
PRIORITY:0
TRANSP:TRANSPARENT
END:VEVENT
END:VCALENDAR