BEGIN:VCALENDAR
VERSION:2.0
METHOD:PUBLISH
CALSCALE:GREGORIAN
PRODID:-//Refresh Web Development//Helios Calendar//EN
X-FROM-URL:https://www.bayareascience.org/calendar/index.php?com=details&eID=34778
X-WR-RELCALID:BayAreaScience.org Science Uncorked: Bodega Head's Northbound Geologic Journey 20231129T180000
X-WR-TIMEZONE:America/New_York
X-WR-CALNAME:BayAreaScience.org
BEGIN:VEVENT
URL;VALUE=URI:https://www.bayareascience.org/calendar/index.php?com=detail&eID=34778
DTSTART:20231129T180000
DTEND:20231129T190000
SUMMARY:Science Uncorked: Bodega Head's Northbound Geologic Journey
DESCRIPTION:...\n______________________________\nThis Event Downloaded From a Helios Calendar Powered Site
LOCATION:Gourmet au Bay - 1412 Bay Flat Rd \, Bodega Bay\, CA  94923
CATEGORIES:BayAreaScience.org Events
PRIORITY:0
TRANSP:TRANSPARENT
END:VEVENT
END:VCALENDAR