BEGIN:VCALENDAR
VERSION:2.0
METHOD:PUBLISH
CALSCALE:GREGORIAN
PRODID:-//Refresh Web Development//Helios Calendar//EN
X-FROM-URL:https://www.bayareascience.org/calendar/index.php?com=details&eID=34779
X-WR-RELCALID:BayAreaScience.org Science Uncorked:  How is Climate Change Impacting California Kelp Forests? A Focus on the Purple Sea Urchin 20231213T180000
X-WR-TIMEZONE:America/New_York
X-WR-CALNAME:BayAreaScience.org
BEGIN:VEVENT
URL;VALUE=URI:https://www.bayareascience.org/calendar/index.php?com=detail&eID=34779
DTSTART:20231213T180000
DTEND:20231213T190000
SUMMARY:Science Uncorked:  How is Climate Change Impacting California Kelp Forests? A Focus on the Purple Sea Urchin
DESCRIPTION:...\n______________________________\nThis Event Downloaded From a Helios Calendar Powered Site
LOCATION:Gourmet au Bay - 1412 Bay Flat Rd \, Bodega Bay\, CA  94923
CATEGORIES:BayAreaScience.org Events
PRIORITY:0
TRANSP:TRANSPARENT
END:VEVENT
END:VCALENDAR