BEGIN:VCALENDAR
VERSION:2.0
METHOD:PUBLISH
CALSCALE:GREGORIAN
PRODID:-//Refresh Web Development//Helios Calendar//EN
X-FROM-URL:https://www.bayareascience.org/calendar/index.php?com=details&eID=34783
X-WR-RELCALID:BayAreaScience.org Virtual Halloween Event: Learning Through Death - Livestream 20231026T120000
X-WR-TIMEZONE:America/New_York
X-WR-CALNAME:BayAreaScience.org
BEGIN:VEVENT
URL;VALUE=URI:https://www.bayareascience.org/calendar/index.php?com=detail&eID=34783
DTSTART:20231026T120000
DTEND:20231026T130000
SUMMARY:Virtual Halloween Event: Learning Through Death - Livestream
DESCRIPTION:At The Marine Mammal Center\, our experts perform fairly unique work on every patient who dies at our hospital and on whales that wash ashore. Pathologists\, who are like scientific detectives\, search...\n______________________________\nThis Event Downloaded From a Helios Calendar Powered Site
LOCATION:Marine Mammal Center -  \, \, CA  
CATEGORIES:BayAreaScience.org Events
PRIORITY:0
TRANSP:TRANSPARENT
END:VEVENT
END:VCALENDAR