BEGIN:VCALENDAR
VERSION:2.0
METHOD:PUBLISH
CALSCALE:GREGORIAN
PRODID:-//Refresh Web Development//Helios Calendar//EN
X-FROM-URL:https://www.bayareascience.org/calendar/index.php?com=details&eID=34786
X-WR-RELCALID:BayAreaScience.org  Mitigating climate and air pollution from the electricity and transportation sectors in the United States 20231023T153000
X-WR-TIMEZONE:America/New_York
X-WR-CALNAME:BayAreaScience.org
BEGIN:VEVENT
URL;VALUE=URI:https://www.bayareascience.org/calendar/index.php?com=detail&eID=34786
DTSTART:20231023T153000
DTEND:20231023T163000
SUMMARY: Mitigating climate and air pollution from the electricity and transportation sectors in the United States
DESCRIPTION:\n______________________________\nThis Event Downloaded From a Helios Calendar Powered Site
LOCATION:Stanford Linear Accelerator (SLAC) Colloquium Series - 2575 Sand Hill Rd\, Building 51 Kavli Auditorium\, Menlo Park\, CA  94025
CATEGORIES:BayAreaScience.org Events
PRIORITY:0
TRANSP:TRANSPARENT
END:VEVENT
END:VCALENDAR