BEGIN:VCALENDAR
VERSION:2.0
METHOD:PUBLISH
CALSCALE:GREGORIAN
PRODID:-//Refresh Web Development//Helios Calendar//EN
X-FROM-URL:https://www.bayareascience.org/calendar/index.php?com=details&eID=34790
X-WR-RELCALID:BayAreaScience.org Antarctica and South Georgia: Birds, Beasts and Bold Adventure - Livestream 20231024T190000
X-WR-TIMEZONE:America/New_York
X-WR-CALNAME:BayAreaScience.org
BEGIN:VEVENT
URL;VALUE=URI:https://www.bayareascience.org/calendar/index.php?com=detail&eID=34790
DTSTART:20231024T190000
DTEND:20231024T203000
SUMMARY:Antarctica and South Georgia: Birds\, Beasts and Bold Adventure - Livestream
DESCRIPTION:Join ACS San Francisco Bay Chapter for another exciting evening with wildlife photographer\, Jodi Frediani. For this talk\, Jodi takes us on her fourth trip to the Antarctic Peninsula and her first...\n______________________________\nThis Event Downloaded From a Helios Calendar Powered Site
LOCATION:American Cetacean Society -  \, \, CA  
CATEGORIES:BayAreaScience.org Events
PRIORITY:0
TRANSP:TRANSPARENT
END:VEVENT
END:VCALENDAR