BEGIN:VCALENDAR
VERSION:2.0
METHOD:PUBLISH
CALSCALE:GREGORIAN
PRODID:-//Refresh Web Development//Helios Calendar//EN
X-FROM-URL:https://www.bayareascience.org/calendar/index.php?com=details&eID=34791
X-WR-RELCALID:BayAreaScience.org Dive Into The Marine Mammal Center - Livestream 20231110T120000
X-WR-TIMEZONE:America/New_York
X-WR-CALNAME:BayAreaScience.org
BEGIN:VEVENT
URL;VALUE=URI:https://www.bayareascience.org/calendar/index.php?com=detail&eID=34791
DTSTART:20231110T120000
DTEND:20231110T130000
SUMMARY:Dive Into The Marine Mammal Center - Livestream
DESCRIPTION:Are you new to The Marine Mammal Center? Do you want to learn more about how we care for seals\, sea lions and otters? Are you intrigued by our work on climate change\, ocean trash and whale conservation?...\n______________________________\nThis Event Downloaded From a Helios Calendar Powered Site
LOCATION:Marine Mammal Center -  \, \, CA  
CATEGORIES:BayAreaScience.org Events
PRIORITY:0
TRANSP:TRANSPARENT
END:VEVENT
END:VCALENDAR