BEGIN:VCALENDAR
VERSION:2.0
METHOD:PUBLISH
CALSCALE:GREGORIAN
PRODID:-//Refresh Web Development//Helios Calendar//EN
X-FROM-URL:https://www.bayareascience.org/calendar/index.php?com=details&eID=34792
X-WR-RELCALID:BayAreaScience.org Nanotechnology: Tiny Science with a Big Impact - Livestream 20231019T120000
X-WR-TIMEZONE:America/New_York
X-WR-CALNAME:BayAreaScience.org
BEGIN:VEVENT
URL;VALUE=URI:https://www.bayareascience.org/calendar/index.php?com=detail&eID=34792
DTSTART:20231019T120000
DTEND:20231019T133000
SUMMARY:Nanotechnology: Tiny Science with a Big Impact - Livestream
DESCRIPTION:Did you know that October 9th was National Nano Day? To celebrate the exploration of this miniscule world that holds immense potential for our future\, this monthâ€™s Midday Science Cafe delves...\n______________________________\nThis Event Downloaded From a Helios Calendar Powered Site
LOCATION:Midday Science Cafe @ UC Berkeley -  \, \, CA  
CATEGORIES:BayAreaScience.org Events
PRIORITY:0
TRANSP:TRANSPARENT
END:VEVENT
END:VCALENDAR