BEGIN:VCALENDAR
VERSION:2.0
METHOD:PUBLISH
CALSCALE:GREGORIAN
PRODID:-//Refresh Web Development//Helios Calendar//EN
X-FROM-URL:https://www.bayareascience.org/calendar/index.php?com=details&eID=34804
X-WR-RELCALID:BayAreaScience.org AI Orchestration: Symphony for a New World 20231018T170000
X-WR-TIMEZONE:America/New_York
X-WR-CALNAME:BayAreaScience.org
BEGIN:VEVENT
URL;VALUE=URI:https://www.bayareascience.org/calendar/index.php?com=detail&eID=34804
DTSTART:20231018T170000
DTEND:20231018T203000
SUMMARY:AI Orchestration: Symphony for a New World
DESCRIPTION:Back in 2015\, BootstrapLabs was among the first VCs to track how AI would impact people\, corporations and society\, and to develop an investment thesis focused on Applied AI in verticals such as...\n______________________________\nThis Event Downloaded From a Helios Calendar Powered Site
LOCATION:swissnex San Francisco - The Embarcadero Pier 17\, Suite 800\, San Francisco\, CA  94111
CATEGORIES:BayAreaScience.org Events
PRIORITY:0
TRANSP:TRANSPARENT
END:VEVENT
END:VCALENDAR