BEGIN:VCALENDAR
VERSION:2.0
METHOD:PUBLISH
CALSCALE:GREGORIAN
PRODID:-//Refresh Web Development//Helios Calendar//EN
X-FROM-URL:https://www.bayareascience.org/calendar/index.php?com=details&eID=34806
X-WR-RELCALID:BayAreaScience.org After Dark: Tinker, Touch, Play 20231109T180000
X-WR-TIMEZONE:America/New_York
X-WR-CALNAME:BayAreaScience.org
BEGIN:VEVENT
URL;VALUE=URI:https://www.bayareascience.org/calendar/index.php?com=detail&eID=34806
DTSTART:20231109T180000
DTEND:20231109T220000
SUMMARY:After Dark: Tinker\, Touch\, Play
DESCRIPTION:Uncap your markers and unleash your creativity at tonightâ€™s After Dark with the Drawing Board. Choose your own design and use a giant pendulum to create mesmerizing artworks that you get...\n______________________________\nThis Event Downloaded From a Helios Calendar Powered Site
LOCATION:ExplOratorium - Pier 15 (Embarcadero at Green Street)  \, San Francisco\, CA USA 94111
CATEGORIES:BayAreaScience.org Events
PRIORITY:0
TRANSP:TRANSPARENT
END:VEVENT
END:VCALENDAR