BEGIN:VCALENDAR
VERSION:2.0
METHOD:PUBLISH
CALSCALE:GREGORIAN
PRODID:-//Refresh Web Development//Helios Calendar//EN
X-FROM-URL:https://www.bayareascience.org/calendar/index.php?com=details&eID=34813
X-WR-RELCALID:BayAreaScience.org Addressing Embodied Carbon Issues in Building Materials and Systems - Livestream 20231018T100000
X-WR-TIMEZONE:America/New_York
X-WR-CALNAME:BayAreaScience.org
BEGIN:VEVENT
URL;VALUE=URI:https://www.bayareascience.org/calendar/index.php?com=detail&eID=34813
DTSTART:20231018T100000
DTEND:20231018T110000
SUMMARY:Addressing Embodied Carbon Issues in Building Materials and Systems - Livestream
DESCRIPTION:Buildings are responsible for 40% of the US greenhouse gas emissions. Building owners and regulators are in a rapid transformation in how buildings are designed and built. Join Peter Rumsey\, Founder...\n______________________________\nThis Event Downloaded From a Helios Calendar Powered Site
LOCATION:Stanford University -  \, \, CA  
CATEGORIES:BayAreaScience.org Events
PRIORITY:0
TRANSP:TRANSPARENT
END:VEVENT
END:VCALENDAR