BEGIN:VCALENDAR
VERSION:2.0
METHOD:PUBLISH
CALSCALE:GREGORIAN
PRODID:-//Refresh Web Development//Helios Calendar//EN
X-FROM-URL:https://www.bayareascience.org/calendar/index.php?com=details&eID=34822
X-WR-RELCALID:BayAreaScience.org Above and Beyond: How Women Astronomers and Astronauts Brought Space Down to Earth 20231022T140000
X-WR-TIMEZONE:America/New_York
X-WR-CALNAME:BayAreaScience.org
BEGIN:VEVENT
URL;VALUE=URI:https://www.bayareascience.org/calendar/index.php?com=detail&eID=34822
DTSTART:20231022T140000
DTEND:20231022T150000
SUMMARY:Above and Beyond: How Women Astronomers and Astronauts Brought Space Down to Earth
DESCRIPTION:Join author Dale DeBakcsy on a tour through two thousand years of women's contributions to the study and exploration of space\, from the first Babylonian astronomers to the women directing planetary...\n______________________________\nThis Event Downloaded From a Helios Calendar Powered Site
LOCATION:Castro Valley Library - 3600 Norbridge Ave \, Castro Valley\, CA USA 94546
CATEGORIES:BayAreaScience.org Events
PRIORITY:0
TRANSP:TRANSPARENT
END:VEVENT
END:VCALENDAR