BEGIN:VCALENDAR
VERSION:2.0
METHOD:PUBLISH
CALSCALE:GREGORIAN
PRODID:-//Refresh Web Development//Helios Calendar//EN
X-FROM-URL:https://www.bayareascience.org/calendar/index.php?com=details&eID=34824
X-WR-RELCALID:BayAreaScience.org 'Chip War: The Fight for the World's Most Critical Technology' 20231019T150000
X-WR-TIMEZONE:America/New_York
X-WR-CALNAME:BayAreaScience.org
BEGIN:VEVENT
URL;VALUE=URI:https://www.bayareascience.org/calendar/index.php?com=detail&eID=34824
DTSTART:20231019T150000
DTEND:20231019T160000
SUMMARY:'Chip War: The Fight for the World's Most Critical Technology'
DESCRIPTION:\n______________________________\nThis Event Downloaded From a Helios Calendar Powered Site
LOCATION:Hohbach Hall\, Room 122 - 557 Escondido Mall Stanford University\, Stanford\, CA  94304
CATEGORIES:BayAreaScience.org Events
PRIORITY:0
TRANSP:TRANSPARENT
END:VEVENT
END:VCALENDAR