BEGIN:VCALENDAR
VERSION:2.0
METHOD:PUBLISH
CALSCALE:GREGORIAN
PRODID:-//Refresh Web Development//Helios Calendar//EN
X-FROM-URL:https://www.bayareascience.org/calendar/index.php?com=details&eID=34827
X-WR-RELCALID:BayAreaScience.org  Merlin Sound ID: Challenges in Real-time Analysis of Bird Vocalizations - Livestream 20231115T110000
X-WR-TIMEZONE:America/New_York
X-WR-CALNAME:BayAreaScience.org
BEGIN:VEVENT
URL;VALUE=URI:https://www.bayareascience.org/calendar/index.php?com=detail&eID=34827
DTSTART:20231115T110000
DTEND:20231115T120000
SUMMARY: Merlin Sound ID: Challenges in Real-time Analysis of Bird Vocalizations - Livestream
DESCRIPTION:The Merlin Bird...\n______________________________\nThis Event Downloaded From a Helios Calendar Powered Site
LOCATION:Monterey Bay Aquarium Research Institute -  \, \, CA  
CATEGORIES:BayAreaScience.org Events
PRIORITY:0
TRANSP:TRANSPARENT
END:VEVENT
END:VCALENDAR